BEGIN:VCALENDAR
VERSION:2.0
PRODID:-//Roel Diepstraten - ECPv6.15.20//NONSGML v1.0//EN
CALSCALE:GREGORIAN
METHOD:PUBLISH
X-WR-CALNAME:Roel Diepstraten
X-ORIGINAL-URL:https://roeldiepstraten.nl
X-WR-CALDESC:Evenementen voor Roel Diepstraten
REFRESH-INTERVAL;VALUE=DURATION:PT1H
X-Robots-Tag:noindex
X-PUBLISHED-TTL:PT1H
BEGIN:VTIMEZONE
TZID:Europe/Amsterdam
BEGIN:DAYLIGHT
TZOFFSETFROM:+0100
TZOFFSETTO:+0200
TZNAME:CEST
DTSTART:20250330T010000
END:DAYLIGHT
BEGIN:STANDARD
TZOFFSETFROM:+0200
TZOFFSETTO:+0100
TZNAME:CET
DTSTART:20251026T010000
END:STANDARD
BEGIN:DAYLIGHT
TZOFFSETFROM:+0100
TZOFFSETTO:+0200
TZNAME:CEST
DTSTART:20260329T010000
END:DAYLIGHT
BEGIN:STANDARD
TZOFFSETFROM:+0200
TZOFFSETTO:+0100
TZNAME:CET
DTSTART:20261025T010000
END:STANDARD
BEGIN:DAYLIGHT
TZOFFSETFROM:+0100
TZOFFSETTO:+0200
TZNAME:CEST
DTSTART:20270328T010000
END:DAYLIGHT
BEGIN:STANDARD
TZOFFSETFROM:+0200
TZOFFSETTO:+0100
TZNAME:CET
DTSTART:20271031T010000
END:STANDARD
END:VTIMEZONE
BEGIN:VEVENT
DTSTART;TZID=Europe/Amsterdam:20260401T192500
DTEND;TZID=Europe/Amsterdam:20260610T201000
DTSTAMP:20260421T172332
CREATED:20250827T112223Z
LAST-MODIFIED:20260402T095009Z
UID:1847-1775071500-1781122200@roeldiepstraten.nl
SUMMARY:Vanaf 5 april nieuwe afleveringen Vroege Vogels
DESCRIPTION:Vroege Vogels – Nieuwe afleveringen vanaf 7 september\nVanaf 5 april neemt Vroege Vogels je weer mee op een ontdekkingstocht door de mooiste en meest bijzondere natuurgebieden van Nederland. Iedere zondagavond om 5 voor half 8 bij NPO2 ontdek je nieuwe afleveringen\, boordevol verhalen over vogels\, planten en mensen die zich inzetten voor hun leefomgeving. \nDe eerste aflevering is een special die je in vogelvlucht mee voeren door de seizoenen. Een bijzondere samenstelling van natuurbeelden die de afgelopen jaren zijn verzameld en waar nu een prachtig verhaal uit voort is gekomen.  \nDaarna gaan we als vanouds op onderzoek in de Nederlandse natuurgebieden zoals Waterland\, de omgeving rondom het dorp Zalk en wat dacht je van het Leekstermeer in Groningen. Elke aflevering laat je de wonderen van de Nederlandse natuur zien\, vertelt de verhalen van mensen die zich inzetten voor hun omgeving en laat je ontdekken wat er leeft buiten de gebaande paden. Stem af\, laat je inspireren en start je zondagavond met de natuur – bij Vroege Vogels. \n\n\n\n       
URL:https://roeldiepstraten.nl/event/vanaf-7-september-nieuwe-afleveringen-vroege-vogels/
CATEGORIES:Natuurprogramma's
ATTACH;FMTTYPE=image/jpeg:https://roeldiepstraten.nl/wp-content/uploads/1920_logo-vroege-vogels-jpg.jpg
END:VEVENT
BEGIN:VEVENT
DTSTART;TZID=Europe/Amsterdam:20260901T080000
DTEND;TZID=Europe/Amsterdam:20261113T170000
DTSTAMP:20260421T172332
CREATED:20250822T095519Z
LAST-MODIFIED:20260402T092833Z
UID:1751-1788249600-1794589200@roeldiepstraten.nl
SUMMARY:Vanaf september: Nieuwe afleveringen Op Pad
DESCRIPTION:Op Pad: Nóg mooier vanaf september met Roel Diepstraten\nVanaf september keert Op Pad met Roel Diepstraten terug op je scherm\, een korte\, mooie natuurreis dwars door Brabant. Deze serie neemt je mee langs de meest betoverende plekjes van onze provincie\, waar flora\, fauna én erfgoed samenkomen. Wat kun je verwachten? Indrukwekkende natuur en verhalen: In de afleveringen toont Roel schitterende beelden van bossen\, paarse hei\, vennen en bijzondere natuurgebieden zoals de Stratumse heide\, De weidevogelgebieden van de Beerse Overlaat\, het Pompveld en nog veel meer. Op Pad spoort je aan om zelf naar buiten te gaan en te ontdekken hoe mooi Brabant is. “Je hoeft alleen de deur maar uit te lopen of op je fiets te stappen\,”\n\n \n\n\n\n 	Prachtige natuuruitzichten in korte tijd: Ideaal als je zin hebt in een dosis natuur zonder uren tv te kijken.\n 	Hét uitgangspunt om zelf op pad te gaan: De serie inspireert je om zelf de wandelroute te kiezen.\n 	Regionale trots en natuurpassie: Rijke beelden\, persoonlijke verhalen en natuurkennis komen samen in elke aflevering.\n\n      
URL:https://roeldiepstraten.nl/event/vanaf-september-nieuwe-afleveringen-op-pad/
CATEGORIES:Natuurprogramma's,Uitgelicht
ATTACH;FMTTYPE=image/jpeg:https://roeldiepstraten.nl/wp-content/uploads/Roel02.jpg
END:VEVENT
END:VCALENDAR