BEGIN:VCALENDAR
VERSION:2.0
PRODID:-//Roel Diepstraten - ECPv6.15.20//NONSGML v1.0//EN
CALSCALE:GREGORIAN
METHOD:PUBLISH
X-ORIGINAL-URL:https://roeldiepstraten.nl
X-WR-CALDESC:Evenementen voor Roel Diepstraten
REFRESH-INTERVAL;VALUE=DURATION:PT1H
X-Robots-Tag:noindex
X-PUBLISHED-TTL:PT1H
BEGIN:VTIMEZONE
TZID:Europe/Amsterdam
BEGIN:DAYLIGHT
TZOFFSETFROM:+0100
TZOFFSETTO:+0200
TZNAME:CEST
DTSTART:20240331T010000
END:DAYLIGHT
BEGIN:STANDARD
TZOFFSETFROM:+0200
TZOFFSETTO:+0100
TZNAME:CET
DTSTART:20241027T010000
END:STANDARD
BEGIN:DAYLIGHT
TZOFFSETFROM:+0100
TZOFFSETTO:+0200
TZNAME:CEST
DTSTART:20250330T010000
END:DAYLIGHT
BEGIN:STANDARD
TZOFFSETFROM:+0200
TZOFFSETTO:+0100
TZNAME:CET
DTSTART:20251026T010000
END:STANDARD
BEGIN:DAYLIGHT
TZOFFSETFROM:+0100
TZOFFSETTO:+0200
TZNAME:CEST
DTSTART:20260329T010000
END:DAYLIGHT
BEGIN:STANDARD
TZOFFSETFROM:+0200
TZOFFSETTO:+0100
TZNAME:CET
DTSTART:20261025T010000
END:STANDARD
END:VTIMEZONE
BEGIN:VEVENT
DTSTART;TZID=Europe/Amsterdam:20250220T094236
DTEND;TZID=Europe/Amsterdam:20250220T094236
DTSTAMP:20260420T131547
CREATED:20241220T162218Z
LAST-MODIFIED:20250220T094236Z
UID:1574-1740044556-1740044556@roeldiepstraten.nl
SUMMARY:In het kielzog naar Afrika
DESCRIPTION:Lezing: In het Kielzog naar Afrika\nOp Reis met de Trekvogels: Van Nederland naar West-Afrika\nIeder jaar vertrekken duizenden vogels uit Nederland op een indrukwekkende reis naar West-Afrika. Ze laten onze koude winters achter zich en vliegen duizenden kilometers om warmere oorden op te zoeken. Maar hun tocht is niet zonder gevaren—ze trotseren stormen boven zee\, rusten in uitgestrekte moerassen en steken uitgestrekte woestijnen over. \nIn deze fascinerende lezing neem ik je mee op deze ongelooflijke reis. We volgen de route van ‘onze’ trekvogels en ontdekken waar ze overwinteren. Wat maakt deze plekken zo bijzonder? Welke uitdagingen komen ze onderweg tegen? En hoe beïnvloeden lokale culturen en de natuur in West-Afrika hun overleving? \nLaat je verwonderen door de veerkracht van de natuur en ontdek de verborgen wereld van de trekvogels. Een inspirerend verhaal vol avontuur\, doorzettingsvermogen en indrukwekkende landschappen. \nBoek deze lezing voor jouw evenement\, natuurorganisatie of vereniging en reis met ons mee! \n 
URL:https://roeldiepstraten.nl/event/in-het-kielzog-naar-afrika-2/
LOCATION:Noord Brabant
CATEGORIES:Lezingen
ATTACH;FMTTYPE=image/jpeg:https://roeldiepstraten.nl/wp-content/uploads/Roel-Diepstraten_jaaravond-wv-2024_HDE-11-scaled.jpg
END:VEVENT
END:VCALENDAR