BEGIN:VCALENDAR
VERSION:2.0
PRODID:-//Roel Diepstraten - ECPv6.15.20//NONSGML v1.0//EN
CALSCALE:GREGORIAN
METHOD:PUBLISH
X-WR-CALNAME:Roel Diepstraten
X-ORIGINAL-URL:https://roeldiepstraten.nl
X-WR-CALDESC:Evenementen voor Roel Diepstraten
REFRESH-INTERVAL;VALUE=DURATION:PT1H
X-Robots-Tag:noindex
X-PUBLISHED-TTL:PT1H
BEGIN:VTIMEZONE
TZID:Europe/Amsterdam
BEGIN:DAYLIGHT
TZOFFSETFROM:+0100
TZOFFSETTO:+0200
TZNAME:CEST
DTSTART:20240331T010000
END:DAYLIGHT
BEGIN:STANDARD
TZOFFSETFROM:+0200
TZOFFSETTO:+0100
TZNAME:CET
DTSTART:20241027T010000
END:STANDARD
BEGIN:DAYLIGHT
TZOFFSETFROM:+0100
TZOFFSETTO:+0200
TZNAME:CEST
DTSTART:20250330T010000
END:DAYLIGHT
BEGIN:STANDARD
TZOFFSETFROM:+0200
TZOFFSETTO:+0100
TZNAME:CET
DTSTART:20251026T010000
END:STANDARD
BEGIN:DAYLIGHT
TZOFFSETFROM:+0100
TZOFFSETTO:+0200
TZNAME:CEST
DTSTART:20260329T010000
END:DAYLIGHT
BEGIN:STANDARD
TZOFFSETFROM:+0200
TZOFFSETTO:+0100
TZNAME:CET
DTSTART:20261025T010000
END:STANDARD
END:VTIMEZONE
BEGIN:VEVENT
DTSTART;TZID=Europe/Amsterdam:20250313T200000
DTEND;TZID=Europe/Amsterdam:20250313T220000
DTSTAMP:20260420T095001
CREATED:20250217T104730Z
LAST-MODIFIED:20250220T093515Z
UID:1610-1741896000-1741903200@roeldiepstraten.nl
SUMMARY:Lezing over de Reusel
DESCRIPTION:Lezing over de Reusel\nGeorganiseerd door de Beerse Vogelvrienden\nTraag meanderend langs heide\, moerassen en weilanden stroomt het water traag door het Brabants Landschap. Al sinds mensenheugenis doorsnijden de Midden-Brabantse beken het zand van deze streek. Maar waar komt dit water vandaan\, en waar voert het naartoe? \nDe Reusel is een van de weinige beken die daadwerkelijk in Brabant ontspringt. Vanuit zijn bron slingert hij door een afwisselend landschap en mondt uiteindelijk uit in de Maas. \nTijdens deze lezing neem ik je mee in het verhaal van deze karakteristieke Brabantse beek. We verkennen de geomorfologie van het landschap\, duiken in de geschiedenis en ontdekken de bijzondere planten en dieren die hier hun thuis vinden. \nDe lezing wordt georganiseerd door de Beerse Vogelvrienden. Iedereen is van harte welkom om deel te nemen aan deze avond bij de Kerk in Oostelbeers.
URL:https://roeldiepstraten.nl/event/lezing-over-de-reusel/
LOCATION:De kerk Oostelbeers\, Kerkstraat 10\, Oostelbeers\, Noord Brabant\, 5091 BE\, Nederland
CATEGORIES:Lezingen
ATTACH;FMTTYPE=image/jpeg:https://roeldiepstraten.nl/wp-content/uploads/De-Reusel.jpg
END:VEVENT
END:VCALENDAR